

BEGIN:VCALENDAR
VERSION:2.0
PRODID:-//Xtensible Solutions - ECPv5.16.4//NONSGML v1.0//EN
CALSCALE:GREGORIAN
METHOD:PUBLISH
X-WR-CALNAME:Xtensible Solutions
X-ORIGINAL-URL:https://www.xtensible.net
X-WR-CALDESC:Events for Xtensible Solutions
BEGIN:VTIMEZONE
TZID:America/New_York
BEGIN:DAYLIGHT
TZOFFSETFROM:-0500
TZOFFSETTO:-0400
TZNAME:EDT
DTSTART:20170312T070000
END:DAYLIGHT
BEGIN:STANDARD
TZOFFSETFROM:-0400
TZOFFSETTO:-0500
TZNAME:EST
DTSTART:20171105T060000
END:STANDARD
END:VTIMEZONE
BEGIN:VEVENT
DTSTART;VALUE=DATE:20171128
DTEND;VALUE=DATE:20171202
DTSTAMP:20260418T035615
CREATED:20170718T043809Z
LAST-MODIFIED:20200927T054321Z
UID:8108-1511827200-1512172799@www.xtensible.net
SUMMARY:V CIER ENERGY CONGRESS 2017
DESCRIPTION:The V CIER Energy Conference will be held on November 28 to December 1\, 2017 and will take place at the beautiful city of Medellin at Plaza Mayor Convention Center organizing by Comité Colombiano de la CIER – COCIER. The main topic will be “Sustainable Energy for all in the Smart Society. The event will offer spaces for business relationship and opportunities for the utilities as well as to the energy industry suppliers goods and services attender’s. \nThe V CIER ENERGY CONGRESS aims to analyze and discuss the challenges that the sustainable energy development faces to provide a reliable\, safe\, and environmentally friendly supply\, with the appropriate means to ensure energy access to all actors of the smart society environment. \nThe topics that will be covered by Xtensible:\nJump Start Utility Enterprise Analytics: Creating a Data Lake not a Data Swamp\nAnalytics for a utility can drive time-to-market for services and create valuable insights for financial services growth and optimization of business functions and delivery. It is projected that the energy and utility analytics market will grow from $1.8 billion USD in 2016 to nearly $3.5 billion USD by 2020. Considering the exponential growth of data that utilities are faced with\, due to the onset of Smart Grid technologies and IoT\, a utility needs to ask themselves: \n\nWhat is our data and analytics strategy?\nWhat should we focus on to deliver quick value?\nHow do we know our data and manage it?\nHow do we integrate our data?\nHow do we architect our data?\n\nUtility CIM Base Integration – Integrating the Utility of the Future\nThe utility standard CIM (Common Information Model) is maintained by IEC and coverers three major components of the utility industry: \n\nTransmission (IEC 61970)\nDistribution (IEC 61968)\nMarket Communications (IEC 62325)\n\nUnderstand the abstract UML model. This represents the major objects within the utility industry and is widely used. It is recommended by a number of organizations such as NIST for their Priority Action Plans (PAPs). CIM standards aim to simplify the integration of components and expand options for supply of components by standardizing information exchanges. \n\nReduce complexity with clear consistent semantic modeling across the enterprise\nData sources: achieve a clear picture of data mastership in the enterprise\nData consumers: make ‘data of record’ available on demand to qualified users
URL:https://www.xtensible.net/event/v-cier-energy-congress-2017/
LOCATION:Centro de Convenciones Plaza Mayor\, Cl. 41 #55-80\, Medellín\, Antioquia\, 050015\, Colombia
ATTACH;FMTTYPE=image/png:https://www.xtensible.net/wp-content/uploads/energy-seminar-colombia-mod.png
ORGANIZER;CN="CIER":MAILTO:INFO@CONGRESOCIER2017.COM
END:VEVENT
END:VCALENDAR