

BEGIN:VCALENDAR
VERSION:2.0
PRODID:-//Xtensible Solutions - ECPv5.16.4//NONSGML v1.0//EN
CALSCALE:GREGORIAN
METHOD:PUBLISH
X-WR-CALNAME:Xtensible Solutions
X-ORIGINAL-URL:https://www.xtensible.net
X-WR-CALDESC:Events for Xtensible Solutions
BEGIN:VTIMEZONE
TZID:America/New_York
BEGIN:DAYLIGHT
TZOFFSETFROM:-0500
TZOFFSETTO:-0400
TZNAME:EDT
DTSTART:20160313T070000
END:DAYLIGHT
BEGIN:STANDARD
TZOFFSETFROM:-0400
TZOFFSETTO:-0500
TZNAME:EST
DTSTART:20161106T060000
END:STANDARD
END:VTIMEZONE
BEGIN:VEVENT
DTSTART;VALUE=DATE:20161107
DTEND;VALUE=DATE:20161111
DTSTAMP:20260419T170705
CREATED:20160218T211451Z
LAST-MODIFIED:20200927T054515Z
UID:5775-1478476800-1478822399@www.xtensible.net
SUMMARY:SGIP 2016 Grid Modernization Summit
DESCRIPTION:Members of Xtensible will be at the SGIP annual conference\,a full demo of the new OpenFMB will be conducted. Meet with us to learn how you can realize the benefits of OpenFMB within your organization.
URL:https://www.xtensible.net/event/sgip-2016-grid-modernization-summit/
LOCATION:The Capital Hilton\, 1001 16th street NW\, Washington\, DC\, 20036\, United States
ATTACH;FMTTYPE=image/png:https://www.xtensible.net/wp-content/uploads/sgip.png
END:VEVENT
END:VCALENDAR