

BEGIN:VCALENDAR
VERSION:2.0
PRODID:-//Xtensible Solutions - ECPv5.16.4//NONSGML v1.0//EN
CALSCALE:GREGORIAN
METHOD:PUBLISH
X-WR-CALNAME:Xtensible Solutions
X-ORIGINAL-URL:https://www.xtensible.net
X-WR-CALDESC:Events for Xtensible Solutions
BEGIN:VTIMEZONE
TZID:America/Phoenix
BEGIN:STANDARD
TZOFFSETFROM:-0700
TZOFFSETTO:-0700
TZNAME:MST
DTSTART:20170101T000000
END:STANDARD
END:VTIMEZONE
BEGIN:VEVENT
DTSTART;TZID=America/Phoenix:20170321T120000
DTEND;TZID=America/Phoenix:20170321T130000
DTSTAMP:20260419T011109
CREATED:20170224T010230Z
LAST-MODIFIED:20200927T054356Z
UID:8040-1490097600-1490101200@www.xtensible.net
SUMMARY:Utility Analytics: Jump Start Your Enterprise Analytics
DESCRIPTION:Presented by: \nTom Eyford\, Global Industry Specialist; Oracle Utility Global Business Unit\nMichael Covarrubias\, Director of Market Strategy and Solutions; Xtensible Solutions \nUtility analytic solutions over the years have addressed a wide variety of demands\, majority of the time solving very specific problems for a given domain. Ask yourself the questions: \n\nHow do we bring all the solutions under a single enterprise approach for our data?\nHow do we interpret our data?\nWhat is our core data platform?\nHow do we integrate our enterprise data with outside service providers?\n\nSmart grid and connected infrastructure challenges have spurred a worldwide demand for understanding of how advanced analytics and “Big Data” technologies can help solve utility business problems and be managed from an enterprise perspective. \nIt is with this market demand in view\, with a focus of answering the question\, Xtensible and Oracle partnered together to develop an advanced analytics and Big Data platform solution that brings data together from different solutions to create an enterprise perspective\, the Oracle Utility Data Model (OUDM). This solution was developed using Xtensible Solutions’ MD3i Frameworks and has been proven on Oracle technology\, providing a platform today for solving problems of the future.
URL:https://www.xtensible.net/event/jump-start-enterprise-analytics-oudm-can-help/
END:VEVENT
END:VCALENDAR