

BEGIN:VCALENDAR
VERSION:2.0
PRODID:-//Xtensible Solutions - ECPv5.16.4//NONSGML v1.0//EN
CALSCALE:GREGORIAN
METHOD:PUBLISH
X-WR-CALNAME:Xtensible Solutions
X-ORIGINAL-URL:https://www.xtensible.net
X-WR-CALDESC:Events for Xtensible Solutions
BEGIN:VTIMEZONE
TZID:America/New_York
BEGIN:DAYLIGHT
TZOFFSETFROM:-0500
TZOFFSETTO:-0400
TZNAME:EDT
DTSTART:20180311T070000
END:DAYLIGHT
BEGIN:STANDARD
TZOFFSETFROM:-0400
TZOFFSETTO:-0500
TZNAME:EST
DTSTART:20181104T060000
END:STANDARD
END:VTIMEZONE
BEGIN:VEVENT
DTSTART;VALUE=DATE:20180604
DTEND;VALUE=DATE:20180609
DTSTAMP:20260418T045928
CREATED:20180528T025010Z
LAST-MODIFIED:20200927T054237Z
UID:8340-1528070400-1528502399@www.xtensible.net
SUMMARY:EPRI Grid Analytics and Power Quality Conference and Exhibition 2018
DESCRIPTION:Xtensible and Southern California Edison recently teamed up to meet requirements of California Rule 21 and produce extensive analytics unconstrained by individual system implementations and business silos. Recognizing that separate projects add in different functional components at varying times\, the foundation of this system includes a comprehensive data model that is based on industry standards such as the IEC Common Information Model (CIM) and Geographic Markup Language (GML). This model serves as a common vocabulary for all functional component interfaces for logical and physical models used by both ‘data-in-motion’ (integration) and ‘data-at-rest’ (databases).\nOur discussion will focus on how distributed energy resources (DER) are interconnected within the SCE network\, in support of varying types of DER programs with third parties and customers. We will also describe how DER management is performed with electrical network connectivity awareness for both the operational and asset perspectives.
URL:https://www.xtensible.net/event/epri-grid-analytics-power-quality-conference-exhibition-2018/
END:VEVENT
END:VCALENDAR