

BEGIN:VCALENDAR
VERSION:2.0
PRODID:-//Xtensible Solutions - ECPv5.16.4//NONSGML v1.0//EN
CALSCALE:GREGORIAN
METHOD:PUBLISH
X-WR-CALNAME:Xtensible Solutions
X-ORIGINAL-URL:https://www.xtensible.net
X-WR-CALDESC:Events for Xtensible Solutions
BEGIN:VTIMEZONE
TZID:America/New_York
BEGIN:DAYLIGHT
TZOFFSETFROM:-0500
TZOFFSETTO:-0400
TZNAME:EDT
DTSTART:20160313T070000
END:DAYLIGHT
BEGIN:STANDARD
TZOFFSETFROM:-0400
TZOFFSETTO:-0500
TZNAME:EST
DTSTART:20161106T060000
END:STANDARD
END:VTIMEZONE
BEGIN:VEVENT
DTSTART;VALUE=DATE:20161116
DTEND;VALUE=DATE:20161119
DTSTAMP:20260418T041321
CREATED:20161101T164753Z
LAST-MODIFIED:20200927T054416Z
UID:7922-1479254400-1479513599@www.xtensible.net
SUMMARY:CIM Users Group – Americas Meeting 2016
DESCRIPTION:Members of Xtensible will be at the CIM Users Group – Americas Meeting 2016\, November 16 – 18\, 2016 in Atlanta Georgia. Xtensible will be a vendor table sponsor. Members of Xtensible will be co-presenters during the session and providing training during the CIM University classes. Meet with us to learn how you can realize the benefits of “Using CIM to Create and Support the Data-Driven Utility”.
URL:https://www.xtensible.net/event/cim-users-group-americas-meeting-2016/
LOCATION:Georgia Tech Hotel and Conference Center\, 800 Spring Street Northwest\, Atlanta\, GA\, 30308\, United States
ATTACH;FMTTYPE=image/png:https://www.xtensible.net/wp-content/uploads/cim-logo3.png
END:VEVENT
END:VCALENDAR